BEGIN:VCALENDAR
VERSION:2.0
PRODID:-//Care 4 the Caregivers - ECPv6.15.18//NONSGML v1.0//EN
CALSCALE:GREGORIAN
METHOD:PUBLISH
X-WR-CALNAME:Care 4 the Caregivers
X-ORIGINAL-URL:https://care4thecaregivers.org
X-WR-CALDESC:Events for Care 4 the Caregivers
REFRESH-INTERVAL;VALUE=DURATION:PT1H
X-Robots-Tag:noindex
X-PUBLISHED-TTL:PT1H
BEGIN:VTIMEZONE
TZID:America/Phoenix
BEGIN:STANDARD
TZOFFSETFROM:-0700
TZOFFSETTO:-0700
TZNAME:MST
DTSTART:20250101T000000
END:STANDARD
END:VTIMEZONE
BEGIN:VEVENT
DTSTART;TZID=America/Phoenix:20260327T190000
DTEND;TZID=America/Phoenix:20260327T210000
DTSTAMP:20260420T185733
CREATED:20260220T000827Z
LAST-MODIFIED:20260303T005609Z
UID:10003393-1774638000-1774645200@care4thecaregivers.org
SUMMARY:Mesa_Mad Hatter Escape Room
DESCRIPTION:🎩 The Mad Hatter’s Tea Room Escape\nCaregiver Exclusive Event \nThe Mad Hatter has lured you into the Red Queen’s Tea Room\, desperate to uncover her secrets to health and beauty that have kept her youthful for over 200 years. But curiosity has consequences… \nNow you’re trapped inside her mysterious chamber\, and the Queen is not known for her patience. You have just one hour to solve her puzzles\, uncover the truth\, and escape — or it will be “Off with your head!” \nDo you and your fellow caregivers have what it takes to outsmart Wonderland’s most dangerous royal? \nThe Experience\nStep inside an immersive\, intricately designed escape room where you and your team become part of the story. Your mission: work together to uncover clues\, solve challenging puzzles\, and unravel the mystery before time runs out. \nEach room is thoughtfully designed to deliver a thrilling\, interactive adventure filled with creativity\, teamwork\, and excitement. Every puzzle solved brings you one step closer to freedom — but the clock is ticking. \nCaregiver ‘Find Your Fun’ Event Details\nThis is a caregiver-only appreciation event\, created as a fun and engaging opportunity to relax\, connect\, and enjoy time with others who understand the caregiving journey. \n\n👥 Registration is limited to two participants. Bring the husband a fellow caregiver or friend. \n🎟️ Space is limited and expected to fill quickly.\n\nWe encourage you to register early to secure your spot!
URL:https://care4thecaregivers.org/event/mesa_mad-hatter-escape-room-2/
LOCATION:United Escapes of America\, 86 W University Dr\, Mesa\, Arizona\, 85201
CATEGORIES:Find Your Fun
ATTACH;FMTTYPE=image/jpeg:https://care4thecaregivers.org/wp-content/uploads/2026/02/FYF_EscapeRoom_March272026.jpg
END:VEVENT
END:VCALENDAR