BEGIN:VCALENDAR
VERSION:2.0
PRODID:-//Care 4 the Caregivers - ECPv6.15.18//NONSGML v1.0//EN
CALSCALE:GREGORIAN
METHOD:PUBLISH
X-ORIGINAL-URL:https://care4thecaregivers.org
X-WR-CALDESC:Events for Care 4 the Caregivers
REFRESH-INTERVAL;VALUE=DURATION:PT1H
X-Robots-Tag:noindex
X-PUBLISHED-TTL:PT1H
BEGIN:VTIMEZONE
TZID:America/Phoenix
BEGIN:STANDARD
TZOFFSETFROM:-0700
TZOFFSETTO:-0700
TZNAME:MST
DTSTART:20210101T000000
END:STANDARD
END:VTIMEZONE
BEGIN:VEVENT
DTSTART;TZID=America/Phoenix:20221211T140000
DTEND;TZID=America/Phoenix:20221211T170000
DTSTAMP:20260419T090442
CREATED:20220914T190258Z
LAST-MODIFIED:20220914T190258Z
UID:10000736-1670767200-1670778000@care4thecaregivers.org
SUMMARY:AZ Opera: Tucson: Ariadne auf Naxos
DESCRIPTION:Ariadne—played by the prima donna—mourns the loss of her lover Theseus on the island of Naxos believing that death will be her only comfort. Zerbinetta and her troupe of players observe from the wings and attempt to invade the performance to lift Ariadne’s spirits and then claim the stage for their own performance. With each attempt\, Ariadne becomes further entranced by her wish for death\, singing that Hermes will take her to the Realm of Death where she will be free from the burdens and sorrows of this world. Finally taking command of the action\, Zerbinetta and her troupe of players tell her that the only way to get over love lost is to simply find a new love. Despite Zerbinetta’s great coloratura flair\, Ariadne is offended by the advice and leaves the stage to the triumphant Commedia players. \nReclaiming the stage for the Opera\, the Nymphs Naiad\, Dryad\, and Echo announce that a ship is approaching the island. Ariadne believes that Hermes has come to deliver her\, but in truth it is the god Bacchus who has escaped the clutches of the seductive sorceress\, Circe. At first Ariadne mistakes him for Theseus and then again for Hermes. Bacchus reveals himself as a god and the two fall immediately in love. The God of Wine crowns her as his consort saying he would rather see the stars fall from the sky than lose her love and offers her a place with him forever in the constellations. During this performance where all the players seem truly touched by the gods\, the Commedia actors and the Opera singers are moved to collaborate and share the stage. Sensing the common theme from the very beginning\, Zerbinetta proclaims her philosophy on love was correct all along. \n  \nRegistration begins November 1
URL:https://care4thecaregivers.org/event/az-opera-tucson-ariadne-auf-naxos/2022-12-11/
LOCATION:Temple of Music and Art\, 260 S Church Ave\, Tucson\, AZ\, 85701\, United States
ATTACH;FMTTYPE=image/jpeg:https://care4thecaregivers.org/wp-content/uploads/2022/08/AriadneauxNaxos-1-scaled.jpg
END:VEVENT
BEGIN:VEVENT
DTSTART;TZID=America/Phoenix:20221210T193000
DTEND;TZID=America/Phoenix:20221210T213000
DTSTAMP:20260419T090442
CREATED:20220914T190258Z
LAST-MODIFIED:20220914T190258Z
UID:10000735-1670700600-1670707800@care4thecaregivers.org
SUMMARY:AZ Opera: Tucson: Ariadne auf Naxos
DESCRIPTION:Ariadne—played by the prima donna—mourns the loss of her lover Theseus on the island of Naxos believing that death will be her only comfort. Zerbinetta and her troupe of players observe from the wings and attempt to invade the performance to lift Ariadne’s spirits and then claim the stage for their own performance. With each attempt\, Ariadne becomes further entranced by her wish for death\, singing that Hermes will take her to the Realm of Death where she will be free from the burdens and sorrows of this world. Finally taking command of the action\, Zerbinetta and her troupe of players tell her that the only way to get over love lost is to simply find a new love. Despite Zerbinetta’s great coloratura flair\, Ariadne is offended by the advice and leaves the stage to the triumphant Commedia players. \nReclaiming the stage for the Opera\, the Nymphs Naiad\, Dryad\, and Echo announce that a ship is approaching the island. Ariadne believes that Hermes has come to deliver her\, but in truth it is the god Bacchus who has escaped the clutches of the seductive sorceress\, Circe. At first Ariadne mistakes him for Theseus and then again for Hermes. Bacchus reveals himself as a god and the two fall immediately in love. The God of Wine crowns her as his consort saying he would rather see the stars fall from the sky than lose her love and offers her a place with him forever in the constellations. During this performance where all the players seem truly touched by the gods\, the Commedia actors and the Opera singers are moved to collaborate and share the stage. Sensing the common theme from the very beginning\, Zerbinetta proclaims her philosophy on love was correct all along. \n  \nRegistration begins November 1
URL:https://care4thecaregivers.org/event/az-opera-tucson-ariadne-auf-naxos/2022-12-10/
LOCATION:Temple of Music and Art\, 260 S Church Ave\, Tucson\, AZ\, 85701\, United States
ATTACH;FMTTYPE=image/jpeg:https://care4thecaregivers.org/wp-content/uploads/2022/08/AriadneauxNaxos-1-scaled.jpg
END:VEVENT
BEGIN:VEVENT
DTSTART;TZID=America/Phoenix:20221023T140000
DTEND;TZID=America/Phoenix:20221023T170000
DTSTAMP:20260419T090442
CREATED:20220914T182206Z
LAST-MODIFIED:20221004T201458Z
UID:10000708-1666533600-1666544400@care4thecaregivers.org
SUMMARY:AZ Opera: Tucson- The Falling and the Rising
DESCRIPTION:The Falling and the Rising is an operatic story of service and sacrifice\, which traces the inner journey of a soldier who enters a coma after she suffers a roadside attack. As the soldier moves through her unconscious dreamscape\, the audience will serve as both companion and witness\, sharing powerful encounters with fellow service members along the way. \nThis opera centers around a strong female hero known only as “Soldier.” After sending a video message home on the eve of her daughter’s thirteenth birthday\, Soldier is severely wounded by a roadside bomb. As she experiences a medically-induced coma\, she sees visions of other soldiers’ stories\, each on their journey toward healing and home. \nBased on real-life interviews with wounded soldiers at Walter Reed Hospital\, this Soldier’s odyssey was created to honor the indomitable spirit of our U.S. Military veterans. By shedding light on the inspirational power of their stories\, Arizona Opera hopes to knit the civilian and veteran/military populations together through this story of family\, service\, sacrifice\, and hope. \nTHE FALLING AND THE RISING was conceived by Sergeant First Class Benjamin Hilgert. THE FALLING AND THE RISING was originally commissioned by the US Army Field Band and Soldiers Chorus\, Opera Memphis\, Seattle Opera\, San Diego Opera\, Arizona Opera\, and TCU. THE FALLING AND THE RISING was originally workshopped at Seagle Music Colony. Special thanks go to Garnett Brooks for producing the New York premiere at the Alvin Ailey Citigroup Theater in January\, 2018. \n  \nRegister Here: https://care4thecaregivers.org/product/the-falling-and-the-rising/
URL:https://care4thecaregivers.org/event/az-opera-tucson-the-falling-and-the-rising/2022-10-23/
LOCATION:Temple of Music and Art\, 260 S Church Ave\, Tucson\, AZ\, 85701\, United States
ATTACH;FMTTYPE=image/jpeg:https://care4thecaregivers.org/wp-content/uploads/2022/08/TemplateforAZOpera-copy-1-scaled.jpg
END:VEVENT
BEGIN:VEVENT
DTSTART;TZID=America/Phoenix:20221022T193000
DTEND;TZID=America/Phoenix:20221022T210000
DTSTAMP:20260419T090442
CREATED:20220914T182206Z
LAST-MODIFIED:20221004T201458Z
UID:10000707-1666467000-1666472400@care4thecaregivers.org
SUMMARY:AZ Opera: Tucson- The Falling and the Rising
DESCRIPTION:The Falling and the Rising is an operatic story of service and sacrifice\, which traces the inner journey of a soldier who enters a coma after she suffers a roadside attack. As the soldier moves through her unconscious dreamscape\, the audience will serve as both companion and witness\, sharing powerful encounters with fellow service members along the way. \nThis opera centers around a strong female hero known only as “Soldier.” After sending a video message home on the eve of her daughter’s thirteenth birthday\, Soldier is severely wounded by a roadside bomb. As she experiences a medically-induced coma\, she sees visions of other soldiers’ stories\, each on their journey toward healing and home. \nBased on real-life interviews with wounded soldiers at Walter Reed Hospital\, this Soldier’s odyssey was created to honor the indomitable spirit of our U.S. Military veterans. By shedding light on the inspirational power of their stories\, Arizona Opera hopes to knit the civilian and veteran/military populations together through this story of family\, service\, sacrifice\, and hope. \nTHE FALLING AND THE RISING was conceived by Sergeant First Class Benjamin Hilgert. THE FALLING AND THE RISING was originally commissioned by the US Army Field Band and Soldiers Chorus\, Opera Memphis\, Seattle Opera\, San Diego Opera\, Arizona Opera\, and TCU. THE FALLING AND THE RISING was originally workshopped at Seagle Music Colony. Special thanks go to Garnett Brooks for producing the New York premiere at the Alvin Ailey Citigroup Theater in January\, 2018. \n  \nRegister Here: https://care4thecaregivers.org/product/the-falling-and-the-rising/
URL:https://care4thecaregivers.org/event/az-opera-tucson-the-falling-and-the-rising/2022-10-22/
LOCATION:Temple of Music and Art\, 260 S Church Ave\, Tucson\, AZ\, 85701\, United States
ATTACH;FMTTYPE=image/jpeg:https://care4thecaregivers.org/wp-content/uploads/2022/08/TemplateforAZOpera-copy-1-scaled.jpg
END:VEVENT
END:VCALENDAR