BEGIN:VCALENDAR
VERSION:2.0
PRODID:-//Care 4 the Caregivers - ECPv6.15.18//NONSGML v1.0//EN
CALSCALE:GREGORIAN
METHOD:PUBLISH
X-WR-CALNAME:Care 4 the Caregivers
X-ORIGINAL-URL:https://care4thecaregivers.org
X-WR-CALDESC:Events for Care 4 the Caregivers
REFRESH-INTERVAL;VALUE=DURATION:PT1H
X-Robots-Tag:noindex
X-PUBLISHED-TTL:PT1H
BEGIN:VTIMEZONE
TZID:America/Phoenix
BEGIN:STANDARD
TZOFFSETFROM:-0700
TZOFFSETTO:-0700
TZNAME:MST
DTSTART:20250101T000000
END:STANDARD
END:VTIMEZONE
BEGIN:VEVENT
DTSTART;TZID=America/Phoenix:20260426T210000
DTEND;TZID=America/Phoenix:20260426T220000
DTSTAMP:20260420T125523
CREATED:20251230T192158Z
LAST-MODIFIED:20260115T182449Z
UID:10003339-1777237200-1777240800@care4thecaregivers.org
SUMMARY:Caregivers After Dark - Virtual
DESCRIPTION:Caregivers After Dark\n(formerly BYOB) \nCaregivers After Dark is your permission slip to unwind whenever you’re finally able to make it. \nThis virtual\, after-hours gathering is designed for fun\, ease\, and simply being\, not venting or problem-solving. Bring a beverage\, get comfortable\, and drop in for light conversation\, laughter\, or quiet connection with other caregivers who understand that personal time doesn’t start until late. \nRunning behind? Come late. Need to leave early? That’s okay too. This space honors the unpredictable rhythms of caregiving and meets you where you are. \nUnlike The Unfiltered Hour\, this is not a place to process the hard stuff:  it’s a low-pressure\, come-as-you-are hangout meant to help you exhale at the end of the day. \nNo agenda. No expectations.Just caregivers and community to close out your night. \nRegister Here
URL:https://care4thecaregivers.org/event/caregivers-after-dark/2026-04-26/
ATTACH;FMTTYPE=image/jpeg:https://care4thecaregivers.org/wp-content/uploads/2025/12/Virtual_CaregiversAD.jpg
LOCATION:
END:VEVENT
BEGIN:VEVENT
DTSTART;TZID=America/Phoenix:20260524T210000
DTEND;TZID=America/Phoenix:20260524T220000
DTSTAMP:20260420T125523
CREATED:20251230T192158Z
LAST-MODIFIED:20260115T182449Z
UID:10003340-1779656400-1779660000@care4thecaregivers.org
SUMMARY:Caregivers After Dark - Virtual
DESCRIPTION:Caregivers After Dark\n(formerly BYOB) \nCaregivers After Dark is your permission slip to unwind whenever you’re finally able to make it. \nThis virtual\, after-hours gathering is designed for fun\, ease\, and simply being\, not venting or problem-solving. Bring a beverage\, get comfortable\, and drop in for light conversation\, laughter\, or quiet connection with other caregivers who understand that personal time doesn’t start until late. \nRunning behind? Come late. Need to leave early? That’s okay too. This space honors the unpredictable rhythms of caregiving and meets you where you are. \nUnlike The Unfiltered Hour\, this is not a place to process the hard stuff:  it’s a low-pressure\, come-as-you-are hangout meant to help you exhale at the end of the day. \nNo agenda. No expectations.Just caregivers and community to close out your night. \nRegister Here
URL:https://care4thecaregivers.org/event/caregivers-after-dark/2026-05-24/
ATTACH;FMTTYPE=image/jpeg:https://care4thecaregivers.org/wp-content/uploads/2025/12/Virtual_CaregiversAD.jpg
LOCATION:
END:VEVENT
BEGIN:VEVENT
DTSTART;TZID=America/Phoenix:20260628T210000
DTEND;TZID=America/Phoenix:20260628T220000
DTSTAMP:20260420T125523
CREATED:20251230T192158Z
LAST-MODIFIED:20260115T182449Z
UID:10003341-1782680400-1782684000@care4thecaregivers.org
SUMMARY:Caregivers After Dark - Virtual
DESCRIPTION:Caregivers After Dark\n(formerly BYOB) \nCaregivers After Dark is your permission slip to unwind whenever you’re finally able to make it. \nThis virtual\, after-hours gathering is designed for fun\, ease\, and simply being\, not venting or problem-solving. Bring a beverage\, get comfortable\, and drop in for light conversation\, laughter\, or quiet connection with other caregivers who understand that personal time doesn’t start until late. \nRunning behind? Come late. Need to leave early? That’s okay too. This space honors the unpredictable rhythms of caregiving and meets you where you are. \nUnlike The Unfiltered Hour\, this is not a place to process the hard stuff:  it’s a low-pressure\, come-as-you-are hangout meant to help you exhale at the end of the day. \nNo agenda. No expectations.Just caregivers and community to close out your night. \nRegister Here
URL:https://care4thecaregivers.org/event/caregivers-after-dark/2026-06-28/
ATTACH;FMTTYPE=image/jpeg:https://care4thecaregivers.org/wp-content/uploads/2025/12/Virtual_CaregiversAD.jpg
LOCATION:
END:VEVENT
BEGIN:VEVENT
DTSTART;TZID=America/Phoenix:20260726T210000
DTEND;TZID=America/Phoenix:20260726T220000
DTSTAMP:20260420T125523
CREATED:20251230T192158Z
LAST-MODIFIED:20260115T182449Z
UID:10003342-1785099600-1785103200@care4thecaregivers.org
SUMMARY:Caregivers After Dark - Virtual
DESCRIPTION:Caregivers After Dark\n(formerly BYOB) \nCaregivers After Dark is your permission slip to unwind whenever you’re finally able to make it. \nThis virtual\, after-hours gathering is designed for fun\, ease\, and simply being\, not venting or problem-solving. Bring a beverage\, get comfortable\, and drop in for light conversation\, laughter\, or quiet connection with other caregivers who understand that personal time doesn’t start until late. \nRunning behind? Come late. Need to leave early? That’s okay too. This space honors the unpredictable rhythms of caregiving and meets you where you are. \nUnlike The Unfiltered Hour\, this is not a place to process the hard stuff:  it’s a low-pressure\, come-as-you-are hangout meant to help you exhale at the end of the day. \nNo agenda. No expectations.Just caregivers and community to close out your night. \nRegister Here
URL:https://care4thecaregivers.org/event/caregivers-after-dark/2026-07-26/
ATTACH;FMTTYPE=image/jpeg:https://care4thecaregivers.org/wp-content/uploads/2025/12/Virtual_CaregiversAD.jpg
LOCATION:
END:VEVENT
BEGIN:VEVENT
DTSTART;TZID=America/Phoenix:20260823T210000
DTEND;TZID=America/Phoenix:20260823T220000
DTSTAMP:20260420T125523
CREATED:20251230T192158Z
LAST-MODIFIED:20260115T182449Z
UID:10003343-1787518800-1787522400@care4thecaregivers.org
SUMMARY:Caregivers After Dark - Virtual
DESCRIPTION:Caregivers After Dark\n(formerly BYOB) \nCaregivers After Dark is your permission slip to unwind whenever you’re finally able to make it. \nThis virtual\, after-hours gathering is designed for fun\, ease\, and simply being\, not venting or problem-solving. Bring a beverage\, get comfortable\, and drop in for light conversation\, laughter\, or quiet connection with other caregivers who understand that personal time doesn’t start until late. \nRunning behind? Come late. Need to leave early? That’s okay too. This space honors the unpredictable rhythms of caregiving and meets you where you are. \nUnlike The Unfiltered Hour\, this is not a place to process the hard stuff:  it’s a low-pressure\, come-as-you-are hangout meant to help you exhale at the end of the day. \nNo agenda. No expectations.Just caregivers and community to close out your night. \nRegister Here
URL:https://care4thecaregivers.org/event/caregivers-after-dark/2026-08-23/
ATTACH;FMTTYPE=image/jpeg:https://care4thecaregivers.org/wp-content/uploads/2025/12/Virtual_CaregiversAD.jpg
LOCATION:
END:VEVENT
BEGIN:VEVENT
DTSTART;TZID=America/Phoenix:20260927T210000
DTEND;TZID=America/Phoenix:20260927T220000
DTSTAMP:20260420T125523
CREATED:20251230T192158Z
LAST-MODIFIED:20260115T182449Z
UID:10003344-1790542800-1790546400@care4thecaregivers.org
SUMMARY:Caregivers After Dark - Virtual
DESCRIPTION:Caregivers After Dark\n(formerly BYOB) \nCaregivers After Dark is your permission slip to unwind whenever you’re finally able to make it. \nThis virtual\, after-hours gathering is designed for fun\, ease\, and simply being\, not venting or problem-solving. Bring a beverage\, get comfortable\, and drop in for light conversation\, laughter\, or quiet connection with other caregivers who understand that personal time doesn’t start until late. \nRunning behind? Come late. Need to leave early? That’s okay too. This space honors the unpredictable rhythms of caregiving and meets you where you are. \nUnlike The Unfiltered Hour\, this is not a place to process the hard stuff:  it’s a low-pressure\, come-as-you-are hangout meant to help you exhale at the end of the day. \nNo agenda. No expectations.Just caregivers and community to close out your night. \nRegister Here
URL:https://care4thecaregivers.org/event/caregivers-after-dark/2026-09-27/
ATTACH;FMTTYPE=image/jpeg:https://care4thecaregivers.org/wp-content/uploads/2025/12/Virtual_CaregiversAD.jpg
LOCATION:
END:VEVENT
BEGIN:VEVENT
DTSTART;TZID=America/Phoenix:20261025T210000
DTEND;TZID=America/Phoenix:20261025T220000
DTSTAMP:20260420T125523
CREATED:20251230T192158Z
LAST-MODIFIED:20260115T182449Z
UID:10003345-1792962000-1792965600@care4thecaregivers.org
SUMMARY:Caregivers After Dark - Virtual
DESCRIPTION:Caregivers After Dark\n(formerly BYOB) \nCaregivers After Dark is your permission slip to unwind whenever you’re finally able to make it. \nThis virtual\, after-hours gathering is designed for fun\, ease\, and simply being\, not venting or problem-solving. Bring a beverage\, get comfortable\, and drop in for light conversation\, laughter\, or quiet connection with other caregivers who understand that personal time doesn’t start until late. \nRunning behind? Come late. Need to leave early? That’s okay too. This space honors the unpredictable rhythms of caregiving and meets you where you are. \nUnlike The Unfiltered Hour\, this is not a place to process the hard stuff:  it’s a low-pressure\, come-as-you-are hangout meant to help you exhale at the end of the day. \nNo agenda. No expectations.Just caregivers and community to close out your night. \nRegister Here
URL:https://care4thecaregivers.org/event/caregivers-after-dark/2026-10-25/
ATTACH;FMTTYPE=image/jpeg:https://care4thecaregivers.org/wp-content/uploads/2025/12/Virtual_CaregiversAD.jpg
LOCATION:
END:VEVENT
BEGIN:VEVENT
DTSTART;TZID=America/Phoenix:20261122T210000
DTEND;TZID=America/Phoenix:20261122T220000
DTSTAMP:20260420T125523
CREATED:20251230T192158Z
LAST-MODIFIED:20260115T182449Z
UID:10003346-1795381200-1795384800@care4thecaregivers.org
SUMMARY:Caregivers After Dark - Virtual
DESCRIPTION:Caregivers After Dark\n(formerly BYOB) \nCaregivers After Dark is your permission slip to unwind whenever you’re finally able to make it. \nThis virtual\, after-hours gathering is designed for fun\, ease\, and simply being\, not venting or problem-solving. Bring a beverage\, get comfortable\, and drop in for light conversation\, laughter\, or quiet connection with other caregivers who understand that personal time doesn’t start until late. \nRunning behind? Come late. Need to leave early? That’s okay too. This space honors the unpredictable rhythms of caregiving and meets you where you are. \nUnlike The Unfiltered Hour\, this is not a place to process the hard stuff:  it’s a low-pressure\, come-as-you-are hangout meant to help you exhale at the end of the day. \nNo agenda. No expectations.Just caregivers and community to close out your night. \nRegister Here
URL:https://care4thecaregivers.org/event/caregivers-after-dark/2026-11-22/
ATTACH;FMTTYPE=image/jpeg:https://care4thecaregivers.org/wp-content/uploads/2025/12/Virtual_CaregiversAD.jpg
LOCATION:
END:VEVENT
BEGIN:VEVENT
DTSTART;TZID=America/Phoenix:20261227T210000
DTEND;TZID=America/Phoenix:20261227T220000
DTSTAMP:20260420T125523
CREATED:20251230T192158Z
LAST-MODIFIED:20260115T182449Z
UID:10003347-1798405200-1798408800@care4thecaregivers.org
SUMMARY:Caregivers After Dark - Virtual
DESCRIPTION:Caregivers After Dark\n(formerly BYOB) \nCaregivers After Dark is your permission slip to unwind whenever you’re finally able to make it. \nThis virtual\, after-hours gathering is designed for fun\, ease\, and simply being\, not venting or problem-solving. Bring a beverage\, get comfortable\, and drop in for light conversation\, laughter\, or quiet connection with other caregivers who understand that personal time doesn’t start until late. \nRunning behind? Come late. Need to leave early? That’s okay too. This space honors the unpredictable rhythms of caregiving and meets you where you are. \nUnlike The Unfiltered Hour\, this is not a place to process the hard stuff:  it’s a low-pressure\, come-as-you-are hangout meant to help you exhale at the end of the day. \nNo agenda. No expectations.Just caregivers and community to close out your night. \nRegister Here
URL:https://care4thecaregivers.org/event/caregivers-after-dark/2026-12-27/
ATTACH;FMTTYPE=image/jpeg:https://care4thecaregivers.org/wp-content/uploads/2025/12/Virtual_CaregiversAD.jpg
LOCATION:
END:VEVENT
END:VCALENDAR