BEGIN:VCALENDAR
VERSION:2.0
PRODID:-//Care 4 the Caregivers - ECPv6.15.18//NONSGML v1.0//EN
CALSCALE:GREGORIAN
METHOD:PUBLISH
X-ORIGINAL-URL:https://care4thecaregivers.org
X-WR-CALDESC:Events for Care 4 the Caregivers
REFRESH-INTERVAL;VALUE=DURATION:PT1H
X-Robots-Tag:noindex
X-PUBLISHED-TTL:PT1H
BEGIN:VTIMEZONE
TZID:America/Phoenix
BEGIN:STANDARD
TZOFFSETFROM:-0700
TZOFFSETTO:-0700
TZNAME:MST
DTSTART:20250101T000000
END:STANDARD
END:VTIMEZONE
BEGIN:VEVENT
DTSTART;TZID=America/Phoenix:20260410T100000
DTEND;TZID=America/Phoenix:20260410T150000
DTSTAMP:20260425T051412
CREATED:20260122T212521Z
LAST-MODIFIED:20260311T180849Z
UID:10003380-1775815200-1775833200@care4thecaregivers.org
SUMMARY:Hybrid- Caregiving with Clarity
DESCRIPTION:When parents get a disability diagnosis for a child\, they aren’t given space to process the emotions that come with a diagnosis. Most go right to work. They start calling doctors and therapists. They start scheduling appointments\, and they start figuring out how to navigate different systems of care. \nThey do it all without the emotional support they need. \nCaregivers will learn: \n\nto find meaning in the most challenging parts of their parenting journey\ntheir thoughts influence emotions and behaviors\nto take control of their thoughts to establish a new mindset\nsimple tips and strategies to make time for self-care\ncreate goals for them and their child\nto identify stress before it takes over\n\nWhen: April 10th 10am – 3pm \nWhere: Virtual or In-person (360 E Coronado Rd\, Phoenix\, AZ 85004) \nRegister Here
URL:https://care4thecaregivers.org/event/hybrid-caregiving-with-clarity-5/
LOCATION:Legacy Place\, 360 E. Coronado Rd.\, Phoenix\, AZ\, 85004\, United States
CATEGORIES:Education
ATTACH;FMTTYPE=image/jpeg:https://care4thecaregivers.org/wp-content/uploads/2025/12/CWC-April10.jpg
END:VEVENT
END:VCALENDAR