BEGIN:VCALENDAR
VERSION:2.0
PRODID:-//Care 4 the Caregivers - ECPv6.15.18//NONSGML v1.0//EN
CALSCALE:GREGORIAN
METHOD:PUBLISH
X-WR-CALNAME:Care 4 the Caregivers
X-ORIGINAL-URL:https://care4thecaregivers.org
X-WR-CALDESC:Events for Care 4 the Caregivers
REFRESH-INTERVAL;VALUE=DURATION:PT1H
X-Robots-Tag:noindex
X-PUBLISHED-TTL:PT1H
BEGIN:VTIMEZONE
TZID:America/Phoenix
BEGIN:STANDARD
TZOFFSETFROM:-0700
TZOFFSETTO:-0700
TZNAME:MST
DTSTART:20250101T000000
END:STANDARD
END:VTIMEZONE
BEGIN:VEVENT
DTSTART;TZID=America/Phoenix:20260409T090000
DTEND;TZID=America/Phoenix:20260409T100000
DTSTAMP:20260420T165226
CREATED:20251117T224355Z
LAST-MODIFIED:20251231T184342Z
UID:10003350-1775725200-1775728800@care4thecaregivers.org
SUMMARY:Marana- Coffee at Courtney's
DESCRIPTION:Join us for Coffee at Courtney’s\, a monthly gathering hosted by Courtney Deeren\, our Director of Southern Arizona. This is a welcoming space to meet other families\, share conversation\, and ease into the morning together. \nWe look forward to catching up with you! \nRegister Here
URL:https://care4thecaregivers.org/event/marana-coffee-at-courtneys-2/2026-04-09/
LOCATION:AZ
CATEGORIES:Coffee
ATTACH;FMTTYPE=image/png:https://care4thecaregivers.org/wp-content/uploads/2025/11/Coffee-at-Courtneys.png
END:VEVENT
END:VCALENDAR