BEGIN:VCALENDAR
VERSION:2.0
PRODID:-//Care 4 the Caregivers - ECPv6.15.18//NONSGML v1.0//EN
CALSCALE:GREGORIAN
METHOD:PUBLISH
X-ORIGINAL-URL:https://care4thecaregivers.org
X-WR-CALDESC:Events for Care 4 the Caregivers
REFRESH-INTERVAL;VALUE=DURATION:PT1H
X-Robots-Tag:noindex
X-PUBLISHED-TTL:PT1H
BEGIN:VTIMEZONE
TZID:America/Phoenix
BEGIN:STANDARD
TZOFFSETFROM:-0700
TZOFFSETTO:-0700
TZNAME:MST
DTSTART:20250101T000000
END:STANDARD
END:VTIMEZONE
BEGIN:VEVENT
DTSTART;TZID=America/Phoenix:20260331T110000
DTEND;TZID=America/Phoenix:20260331T130000
DTSTAMP:20260420T125513
CREATED:20251222T165415Z
LAST-MODIFIED:20251222T165415Z
UID:10002863-1774954800-1774962000@care4thecaregivers.org
SUMMARY:Virtual- Stepping Stones Triple P
DESCRIPTION:You must register before Feb 3rd to participate. If you found this class after the session has begun- you can get on a waitlist here: https://care4thecaregivers.org/sstp-registration/ \nSSTP is an 10-week program that gives parents the tools and techniques they need to teach their children new skills and gives them strategies to manage misbehaviors at home. The frequency of the meetings allows caregivers the opportunity to try out different skills and then report back to the group to share their successes\, or to get help troubleshooting things that are not working. \nYou will be mailed a book for this course and emailed the Zoom link. \n  \nRegister Here
URL:https://care4thecaregivers.org/event/virtual-stepping-stones-triple-p-2-9/2026-03-31/
LOCATION:AZ
CATEGORIES:Education
ATTACH;FMTTYPE=image/jpeg:https://care4thecaregivers.org/wp-content/uploads/2025/12/SSTP-Feb-April2026-1.jpg
END:VEVENT
BEGIN:VEVENT
DTSTART;TZID=America/Phoenix:20260331T180000
DTEND;TZID=America/Phoenix:20260331T190000
DTSTAMP:20260420T125513
CREATED:20260122T214625Z
LAST-MODIFIED:20260301T180134Z
UID:10003383-1774980000-1774983600@care4thecaregivers.org
SUMMARY:Tucson- Caregiver Dinner Meetup at North
DESCRIPTION:Join Care 4 the Caregivers for an evening meet-up at North Italia. This is a relaxed\, in-person gathering for caregivers to share a meal and spend time with others who understand the caregiving journey. Appetizers are provided\, and additional food and drinks are available for purchase. \nDate: Tuesday\, March 31Time: 6:00 PMLocation: North Italia2995 E Skyline DriveTucson\, AZ 85718 \nRegister Here
URL:https://care4thecaregivers.org/event/tucson-caregiver-dinner-meetup-at-north-4/
LOCATION:North Italia\, 2995 E Skyline Drive\, Tucson\, AZ\, 85718\, United States
CATEGORIES:Dinner
ATTACH;FMTTYPE=image/png:https://care4thecaregivers.org/wp-content/uploads/2026/01/033126-Dinner.png
END:VEVENT
END:VCALENDAR