BEGIN:VCALENDAR
VERSION:2.0
PRODID:-//Care 4 the Caregivers - ECPv6.15.18//NONSGML v1.0//EN
CALSCALE:GREGORIAN
METHOD:PUBLISH
X-WR-CALNAME:Care 4 the Caregivers
X-ORIGINAL-URL:https://care4thecaregivers.org
X-WR-CALDESC:Events for Care 4 the Caregivers
REFRESH-INTERVAL;VALUE=DURATION:PT1H
X-Robots-Tag:noindex
X-PUBLISHED-TTL:PT1H
BEGIN:VTIMEZONE
TZID:America/Phoenix
BEGIN:STANDARD
TZOFFSETFROM:-0700
TZOFFSETTO:-0700
TZNAME:MST
DTSTART:20250101T000000
END:STANDARD
END:VTIMEZONE
BEGIN:VEVENT
DTSTART;TZID=America/Phoenix:20260303T093000
DTEND;TZID=America/Phoenix:20260303T103000
DTSTAMP:20260419T084043
CREATED:20260122T204055Z
LAST-MODIFIED:20260223T211605Z
UID:10003376-1772530200-1772533800@care4thecaregivers.org
SUMMARY:Tucson- Brunch at Ghini's
DESCRIPTION:Join us for a relaxed morning of good food and shared conversation with other caregivers who get it. This is a casual\, come-as-you-are gathering with no agenda\, just space to breathe and be among community. \n🕘 Time: 9:30 AM📍 Location: Ghini’s French Caffe1803 E Prince RoadTucson\, AZ 85719 \nRegister Here
URL:https://care4thecaregivers.org/event/tucson-brunch-at-ghinis/
LOCATION:Ghini’s French Caffe\, 1803 E Prince Road\, Tucson\, AZ\, 85719\, United States
CATEGORIES:Brunch
ATTACH;FMTTYPE=image/png:https://care4thecaregivers.org/wp-content/uploads/2026/01/030326-Brunch.png
END:VEVENT
BEGIN:VEVENT
DTSTART;TZID=America/Phoenix:20260303T110000
DTEND;TZID=America/Phoenix:20260303T130000
DTSTAMP:20260419T084043
CREATED:20251222T165415Z
LAST-MODIFIED:20251222T165415Z
UID:10002859-1772535600-1772542800@care4thecaregivers.org
SUMMARY:Virtual- Stepping Stones Triple P
DESCRIPTION:You must register before Feb 3rd to participate. If you found this class after the session has begun- you can get on a waitlist here: https://care4thecaregivers.org/sstp-registration/ \nSSTP is an 10-week program that gives parents the tools and techniques they need to teach their children new skills and gives them strategies to manage misbehaviors at home. The frequency of the meetings allows caregivers the opportunity to try out different skills and then report back to the group to share their successes\, or to get help troubleshooting things that are not working. \nYou will be mailed a book for this course and emailed the Zoom link. \n  \nRegister Here
URL:https://care4thecaregivers.org/event/virtual-stepping-stones-triple-p-2-9/2026-03-03/
LOCATION:AZ
CATEGORIES:Education
ATTACH;FMTTYPE=image/jpeg:https://care4thecaregivers.org/wp-content/uploads/2025/12/SSTP-Feb-April2026-1.jpg
END:VEVENT
BEGIN:VEVENT
DTSTART;TZID=America/Phoenix:20260303T180000
DTEND;TZID=America/Phoenix:20260303T190000
DTSTAMP:20260419T084043
CREATED:20251223T230105Z
LAST-MODIFIED:20260418T194229Z
UID:10002929-1772560800-1772564400@care4thecaregivers.org
SUMMARY:Who Am I? 2026 _ Virtual
DESCRIPTION:Who Am I? — A Monthly Self-Discovery Workshop for Caregivers\nCaregiving can make it easy to lose sight of the person you were — and the person you’re becoming.Who Am I? is a reimagined monthly mini-workshop series designed to help caregivers reconnect with themselves through guided conversations\, skill-building\, and thought-provoking activities led by expert guest speakers. \nEach session explores a new theme — creativity\, personal growth\, relationships\, career identity\, joy\, mindfulness\, and more — giving caregivers a chance to reflect\, learn\, and rediscover passions outside of their caregiving roles. \nWhether you’re exploring new hobbies\, rebuilding confidence\, finding community\, or uncovering parts of yourself you’ve put on hold\, this series creates a supportive space for curiosity\, connection\, and renewal. \nJoin us each month as we ask the meaningful question — “Who Am I?” — and explore the many beautiful answers together \nOffered via Zoom every first Tuesday of the month \n✨ January — New Year\, New Me: Reconnecting With Yourself\nGuest Speaker: Kathleen Muldoon \nA grounding reset to begin the year with clarity\, curiosity\, and gentle self-discovery.\n🌱 February – Home as Sanctuary: Creating Spaces That Nourish You\nGuest Speaker: Courtney Deeren \nClose the year with warmth by crafting small\, meaningful\, and supportive spaces at home.\n💗  March – Who Am I in Love? Navigating Identity Within Romantic Relationships\nGuest Speaker: Shelly Zorn\, LMFT \nExplore communication\, connection\, intimacy\, and identity beyond caregiving roles.\n💪 April\nCuriosity as Self-Care: The Inner Explorer\nGuest Speaker: Jenna Hedstrom  \nReignite wonder and explore small\, joyful experiments that reconnect you to yourself.\n \n🎈 May — Rediscovering Play: Bringing Joy Back Into Daily Life\nGuest Speaker: Amy Ward \nA workshop centered on fun\, spontaneity\, and the healing power of play for adult caregivers.\n  \n⚡ June – Friendship & Support Circles: Who We Are Together\nStrengthening community\, belonging\, and connection — redefining what supportive relationships look like in adulthood.\n🌈 July\nPersonal Style & Self-Expression: Who Am I Through What I Wear?\nA creative and empowering session exploring identity\, style\, color\, and authentic self-expression.\n🎉 August\nHobbies Reimagined: Trying New Things Without Pressure\nA playful mid-year lift with tiny hobby experiments and rediscovering what feels joyful now.\n💼 September \nBecoming Me Again: Returning to School or the Workforce\nExplore identity shifts\, confidence\, skills\, and future possibilities as you consider education or career transitions.\n⚡ October — Energy Mapping: Understanding What Fills You Up\nIdentify energy boosters and drainers\, redefine boundaries\, and create your personal “energy menu.”\n✍️ November — Creative Writing & Storytelling\nUsing writing as a powerful tool for expression\, clarity\, and reconnecting with your personal voice.\n🏡 December —\nPersonal Resilience & Growth: My Story\, My Strength\nReflect on your journey\, the challenges that shaped you\, and the strengths you carry forward.\n \n\n\n\n\nRegister Here
URL:https://care4thecaregivers.org/event/who-am-i-2026/2026-03-03/
LOCATION:
CATEGORIES:Self Care,Virtual
ATTACH;FMTTYPE=image/jpeg:https://care4thecaregivers.org/wp-content/uploads/2025/12/Virtual-WAI-2026.jpg
END:VEVENT
END:VCALENDAR