BEGIN:VCALENDAR
VERSION:2.0
PRODID:-//Care 4 the Caregivers - ECPv6.15.18//NONSGML v1.0//EN
CALSCALE:GREGORIAN
METHOD:PUBLISH
X-ORIGINAL-URL:https://care4thecaregivers.org
X-WR-CALDESC:Events for Care 4 the Caregivers
REFRESH-INTERVAL;VALUE=DURATION:PT1H
X-Robots-Tag:noindex
X-PUBLISHED-TTL:PT1H
BEGIN:VTIMEZONE
TZID:America/Phoenix
BEGIN:STANDARD
TZOFFSETFROM:-0700
TZOFFSETTO:-0700
TZNAME:MST
DTSTART:20250101T000000
END:STANDARD
END:VTIMEZONE
BEGIN:VEVENT
DTSTART;TZID=America/Phoenix:20260121T093000
DTEND;TZID=America/Phoenix:20260121T103000
DTSTAMP:20260421T104407
CREATED:20251230T164744Z
LAST-MODIFIED:20260116T225328Z
UID:10003142-1768987800-1768991400@care4thecaregivers.org
SUMMARY:Virtual- Support Group 13 and UP
DESCRIPTION:Caregivers of Teens & Adults Support Group\nCare 4 the Caregivers Support Groups offer a space where caregivers of children with disabilities can show up exactly as they are. This group is designed for parents and caregivers of teens and young adults ages 13 and older who are navigating the unique challenges of later-stage caregiving and need support that truly understands their lived experience. \nEach session is facilitated by two licensed counselors who center empathy\, shared understanding\, and practical support. Caregivers are invited to talk openly about burnout\, grief\, stress\, advocacy challenges\, and the everyday realities of raising a disabled child. There is no pressure to share\, listening is always welcome. \nAfter you register\, you will receive the Zoom link via email. Please add it to your calendar and set reminders that work best for you. \nWe look forward to seeing you at our next meeting. \nRegister Here
URL:https://care4thecaregivers.org/event/virtual-support-group-13-and-up-2-3/2026-01-21/
LOCATION:
ATTACH;FMTTYPE=image/jpeg:https://care4thecaregivers.org/wp-content/uploads/2025/12/Support-group-kintsugi-flyer.jpg
END:VEVENT
BEGIN:VEVENT
DTSTART;TZID=America/Phoenix:20260121T173000
DTEND;TZID=America/Phoenix:20260121T190000
DTSTAMP:20260421T104407
CREATED:20251219T213619Z
LAST-MODIFIED:20251219T214327Z
UID:10002787-1769016600-1769022000@care4thecaregivers.org
SUMMARY:Flagstaff- Caregiver Meetup
DESCRIPTION:The Flagstaff Caregiver Meetup is a welcoming space for Northern Arizona caregivers and their families to connect and build community. This monthly gathering is open to families of all disabilities and offers a relaxed\, supportive environment centered on shared understanding and connection. Food is provided\, along with supervised childcare\, so caregivers can take a breath\, enjoy conversation\, and spend time with others who truly get it. \nRegister Here
URL:https://care4thecaregivers.org/event/flagstaff-caregiver-meetup-4-2/2026-01-21/
LOCATION:3475 E. Soliere Ave\, Flagstaff\, 3475 E. Soliere Ave\, Flagstaff\, 86004\, United States
ATTACH;FMTTYPE=image/png:https://care4thecaregivers.org/wp-content/uploads/2025/12/Flagstaff-September-2025.png
END:VEVENT
END:VCALENDAR