BEGIN:VCALENDAR
VERSION:2.0
PRODID:-//Care 4 the Caregivers - ECPv6.15.18//NONSGML v1.0//EN
CALSCALE:GREGORIAN
METHOD:PUBLISH
X-WR-CALNAME:Care 4 the Caregivers
X-ORIGINAL-URL:https://care4thecaregivers.org
X-WR-CALDESC:Events for Care 4 the Caregivers
REFRESH-INTERVAL;VALUE=DURATION:PT1H
X-Robots-Tag:noindex
X-PUBLISHED-TTL:PT1H
BEGIN:VTIMEZONE
TZID:America/Phoenix
BEGIN:STANDARD
TZOFFSETFROM:-0700
TZOFFSETTO:-0700
TZNAME:MST
DTSTART:20240101T000000
END:STANDARD
END:VTIMEZONE
BEGIN:VEVENT
DTSTART;TZID=America/Phoenix:20250509T110000
DTEND;TZID=America/Phoenix:20250509T123000
DTSTAMP:20260421T064902
CREATED:20241219T235059Z
LAST-MODIFIED:20250710T191154Z
UID:10001943-1746788400-1746793800@care4thecaregivers.org
SUMMARY:Virtual- Peaceful Pathways
DESCRIPTION:Peaceful Pathways: A Somatic Yoga Series for Caregivers\nFridays\, 11:00 AM – 12:30 PMAugust 22 | September 12 | September 26 | October 10 | October 24 | November 7Online – Drop-in format \nPeaceful Pathways is a 6-week online yoga series designed specifically for caregivers who are raising children. This unique program offers a supportive space to connect with others while exploring somatic practices that nourish the body\, mind\, and heart. \nEach 90-minute session includes opportunities for:– Guided sharing and community connection– Gentle breathwork and intention setting– Meditation– An accessible\, all-levels yoga practice \nWhether you’re brand new to yoga or a seasoned practitioner\, this series invites you to show up just as you are. The physical practices will be adaptable to meet individual needs\, with an emphasis on self-compassion and empowerment. \nWeekly Themes: \n\n\nChoice & Freedom \n\n\nWaking Up to Your Own Truth \n\n\nFinding Balance \n\n\nTrauma & Embodiment \n\n\nLooking Toward Our Obstacles \n\n\nOpening to Love \n\n\nInspired by the work of Dr. Arielle Schwartz\, PhD\, a renowned expert in trauma recovery and polyvagal-informed therapeutic yoga\, Peaceful Pathways integrates trauma-sensitive practices that support regulation\, resilience\, and personal growth. \nWhile the drop-in format offers flexibility\, attending the full series will allow for deeper exploration and transformation over time. \n\nMeet Your Guide: Heather Joy MagdelanoHeather Joy is the creator and facilitator of Journey into Joy\, a community for caregivers founded nearly a decade ago. A devoted yoga instructor since completing her 200-hour Yoga Teacher Training in 2018\, Heather Joy specializes in Yoga Nidra\, Restorative Yoga\, and trauma-informed practices. She recently completed advanced training in Polyvagal Theory for Trauma Recovery and brings her compassionate presence and deep knowledge to every class. \nRegister Here
URL:https://care4thecaregivers.org/event/virtual-peaceful-pathways/2025-05-09/
LOCATION:AZ
ATTACH;FMTTYPE=image/jpeg:https://care4thecaregivers.org/wp-content/uploads/2024/12/Peaceful-Pathways-1-1.jpg
END:VEVENT
BEGIN:VEVENT
DTSTART;TZID=America/Phoenix:20250509T193000
DTEND;TZID=America/Phoenix:20250509T223000
DTSTAMP:20260421T064902
CREATED:20250418T015959Z
LAST-MODIFIED:20250618T181017Z
UID:10002264-1746819000-1746829800@care4thecaregivers.org
SUMMARY:The Mama Mixer - Beats and Vibes
DESCRIPTION:Let’s Dance Like Nobody’s Passing Bad Policy \nIt’s been a year\, y’all. Between the headlines and the hustle\, our mama hearts are heavy—and our feet are ready to move. Join us for a night to shake it off\, laugh it out\, and reclaim our joy on the dance floor. \n✨ DJ Annie will be spinning the stress away✨ Zero politics\, just good vibes✨ Comfy shoes\, big feels\, and a whole lotta love encouraged \nBecause when caregiving gets hard and the policies get worse\, we dance harder. 💃💪Let’s move through the madness together. You’ve earned this. \n\nRegister Here
URL:https://care4thecaregivers.org/event/the-mama-mixer-beats-and-vibes-2/
LOCATION:Legacy Place Three\, 326 E Coronado Rd\, Phoenix\, AZ\, 85004\, United States
CATEGORIES:Find Your Fun
ATTACH;FMTTYPE=image/jpeg:https://care4thecaregivers.org/wp-content/uploads/2025/04/mamamixer_FYF_may_2025_Insta.jpg
END:VEVENT
END:VCALENDAR