BEGIN:VCALENDAR
VERSION:2.0
PRODID:-//Care 4 the Caregivers - ECPv6.15.18//NONSGML v1.0//EN
CALSCALE:GREGORIAN
METHOD:PUBLISH
X-ORIGINAL-URL:https://care4thecaregivers.org
X-WR-CALDESC:Events for Care 4 the Caregivers
REFRESH-INTERVAL;VALUE=DURATION:PT1H
X-Robots-Tag:noindex
X-PUBLISHED-TTL:PT1H
BEGIN:VTIMEZONE
TZID:America/Phoenix
BEGIN:STANDARD
TZOFFSETFROM:-0700
TZOFFSETTO:-0700
TZNAME:MST
DTSTART:20240101T000000
END:STANDARD
END:VTIMEZONE
BEGIN:VEVENT
DTSTART;TZID=America/Phoenix:20250508T093000
DTEND;TZID=America/Phoenix:20250508T103000
DTSTAMP:20260419T075522
CREATED:20250407T170340Z
LAST-MODIFIED:20250407T170341Z
UID:10002261-1746696600-1746700200@care4thecaregivers.org
SUMMARY:Tucson- Brunch at Tohono Chul
DESCRIPTION:🍳 Brunch with Caregivers – Drinks are on us!Join us for a relaxed morning gathering with other caregivers at the beautiful Tohono Chul Garden Bistro. This is a chance to enjoy good company\, sip your favorite drink (our treat!)\, and take a breath in a peaceful setting surrounded by nature. \nWhether you’re new to our community or a familiar face\, we’d love to see you there. \n🗓 Thursday\, May 8th🕤 9:30 AM📍 Tohono Chul Garden Bistro7366 North Paseo del Norte\, Tucson\, AZ 85704 \nRegister Here
URL:https://care4thecaregivers.org/event/tucson-brunch-at-tohono-chul-2/
LOCATION:Tohono Chul Bistro\, 7366 N Paseo Del Norte\, Tucson\, Arizona\, 85704
ATTACH;FMTTYPE=image/png:https://care4thecaregivers.org/wp-content/uploads/2025/04/58-Brunch.png
END:VEVENT
BEGIN:VEVENT
DTSTART;TZID=America/Phoenix:20250508T200000
DTEND;TZID=America/Phoenix:20250508T210000
DTSTAMP:20260419T075522
CREATED:20250305T001636Z
LAST-MODIFIED:20250305T001640Z
UID:10001966-1746734400-1746738000@care4thecaregivers.org
SUMMARY:Virtual-BYO/B
DESCRIPTION:Grab your favorite drink\, and come to connect with the community! \nRegister Here
URL:https://care4thecaregivers.org/event/virtual-byo-b-2-2/2025-05-08/
LOCATION:AZ
ATTACH;FMTTYPE=image/jpeg:https://care4thecaregivers.org/wp-content/uploads/2024/01/BYOB-update-1080-x-1350-px.jpg
END:VEVENT
END:VCALENDAR