BEGIN:VCALENDAR
VERSION:2.0
PRODID:-//Care 4 the Caregivers - ECPv6.15.18//NONSGML v1.0//EN
CALSCALE:GREGORIAN
METHOD:PUBLISH
X-WR-CALNAME:Care 4 the Caregivers
X-ORIGINAL-URL:https://care4thecaregivers.org
X-WR-CALDESC:Events for Care 4 the Caregivers
REFRESH-INTERVAL;VALUE=DURATION:PT1H
X-Robots-Tag:noindex
X-PUBLISHED-TTL:PT1H
BEGIN:VTIMEZONE
TZID:America/Phoenix
BEGIN:STANDARD
TZOFFSETFROM:-0700
TZOFFSETTO:-0700
TZNAME:MST
DTSTART:20240101T000000
END:STANDARD
END:VTIMEZONE
BEGIN:VEVENT
DTSTART;TZID=America/Phoenix:20250315T130000
DTEND;TZID=America/Phoenix:20250315T150000
DTSTAMP:20260421T090704
CREATED:20241230T204430Z
LAST-MODIFIED:20241230T204430Z
UID:10001981-1742043600-1742050800@care4thecaregivers.org
SUMMARY:Phoenix/Tucson-Restorative Yoga
DESCRIPTION:Embark on an Extraordinary Journey Into Joy\, where Heather Joy brings back her empowering program in partnership with Care 4 the Caregivers. This experience is designed to help parents raising disabled children discover inner peace\, find meaning\, and embrace joy in their own personal journey. \nJoin us for a series that focuses on nurturing your own well-being. We will explore self-care techniques specially curated for this unique journey. Which will include journaling\, sound healing\, meditation\, vision boards\, among other empowering practices. \nConnect with a compassionate community who walk the same path as you. Let’s embark on a transformative quest and unlock the incredible support and camaraderie within your community. \nEnroll now and embrace your Journey Into Joy. \nThese will all be done in-person in both Phoenix and Tucson. \nTuscon events will not occur in January\, May\, September\, or November \nWhen: 1-3\nWhere:\nPhoenix- Metta Yoga Studio 4041. E Thomas Rd #106\, Phoenix\, AZ 85018\nTucson- Center 4 Self-Care: 3501 E Kleindale Rd\, Tucson\, AZ 85716 \nRegister Here
URL:https://care4thecaregivers.org/event/phoenix-tucson-restorative-yoga-2/
LOCATION:AZ
ATTACH;FMTTYPE=image/jpeg:https://care4thecaregivers.org/wp-content/uploads/2024/12/2025-Restorative-2.jpg
END:VEVENT
END:VCALENDAR