BEGIN:VCALENDAR
VERSION:2.0
PRODID:-//Care 4 the Caregivers - ECPv6.15.18//NONSGML v1.0//EN
CALSCALE:GREGORIAN
METHOD:PUBLISH
X-WR-CALNAME:Care 4 the Caregivers
X-ORIGINAL-URL:https://care4thecaregivers.org
X-WR-CALDESC:Events for Care 4 the Caregivers
REFRESH-INTERVAL;VALUE=DURATION:PT1H
X-Robots-Tag:noindex
X-PUBLISHED-TTL:PT1H
BEGIN:VTIMEZONE
TZID:America/Phoenix
BEGIN:STANDARD
TZOFFSETFROM:-0700
TZOFFSETTO:-0700
TZNAME:MST
DTSTART:20230101T000000
END:STANDARD
END:VTIMEZONE
BEGIN:VEVENT
DTSTART;TZID=America/Phoenix:20241024T200000
DTEND;TZID=America/Phoenix:20241024T210000
DTSTAMP:20260420T072003
CREATED:20240312T185606Z
LAST-MODIFIED:20240903T150636Z
UID:10001498-1729800000-1729803600@care4thecaregivers.org
SUMMARY:Virtual_Fiction Book Club
DESCRIPTION:Take a break from reality and join us for our Fiction Book Club. \nSometimes\, it is great to take a break from our everyday lives and explore another place\, time\, and people. We will pick a book to read and meet to discuss each month. You can purchase these books on Amazon- or find them on Audible- just beware of the dramatizations. 🙂 \nAugust: Starling House by Alix Harrow \nThis book club will be done via Zoom. \nYou will be sent a Zoom link 30 minutes before the event. \nRegister Here
URL:https://care4thecaregivers.org/event/fiction-book-club-2-2/2024-10-24/
LOCATION:AZ
ATTACH;FMTTYPE=image/jpeg:https://care4thecaregivers.org/wp-content/uploads/2024/01/Come-and-join-our-fiction-Real-Estate-Flyer.jpg
END:VEVENT
END:VCALENDAR