BEGIN:VCALENDAR
VERSION:2.0
PRODID:-//Care 4 the Caregivers - ECPv6.15.18//NONSGML v1.0//EN
CALSCALE:GREGORIAN
METHOD:PUBLISH
X-ORIGINAL-URL:https://care4thecaregivers.org
X-WR-CALDESC:Events for Care 4 the Caregivers
REFRESH-INTERVAL;VALUE=DURATION:PT1H
X-Robots-Tag:noindex
X-PUBLISHED-TTL:PT1H
BEGIN:VTIMEZONE
TZID:America/Phoenix
BEGIN:STANDARD
TZOFFSETFROM:-0700
TZOFFSETTO:-0700
TZNAME:MST
DTSTART:20230101T000000
END:STANDARD
END:VTIMEZONE
BEGIN:VEVENT
DTSTART;TZID=America/Phoenix:20240823T093000
DTEND;TZID=America/Phoenix:20240823T110000
DTSTAMP:20260425T110039
CREATED:20240813T004159Z
LAST-MODIFIED:20240816T165505Z
UID:10001675-1724405400-1724410800@care4thecaregivers.org
SUMMARY:Caregiver Coffee Cafe - Phoenix
DESCRIPTION:Caregiver Coffee Cafe \nJoin us for a cozy and uplifting gathering at our Caregiver Coffee Cafe! Whether you’re looking to share stories\, seek support\, or simply enjoy a cup of coffee and some pastries in great company\, Michele\, Amy\, and Gaby will be there to welcome you. Whether it’s just one of us or all three\, you can count on a warm atmosphere and delicious coffee on us! \nDate & Time: August 23\, 2024 @ 9:30 \nLocation: 360 E. Coronado Rd. Phoenix\, Az 85004 \nCome as you are! Register: Caregiver Coffee Cafe – Phoenix \nRegister Here
URL:https://care4thecaregivers.org/event/caregiver-coffee-cafe-phoenix-3/
LOCATION:Legacy Place\, 360 E. Coronado Rd.\, Phoenix\, AZ\, 85004\, United States
CATEGORIES:Coffee
ATTACH;FMTTYPE=image/jpeg:https://care4thecaregivers.org/wp-content/uploads/2024/08/823-CCC-.jpg
END:VEVENT
END:VCALENDAR