BEGIN:VCALENDAR
VERSION:2.0
PRODID:-//Care 4 the Caregivers - ECPv6.15.18//NONSGML v1.0//EN
CALSCALE:GREGORIAN
METHOD:PUBLISH
X-ORIGINAL-URL:https://care4thecaregivers.org
X-WR-CALDESC:Events for Care 4 the Caregivers
REFRESH-INTERVAL;VALUE=DURATION:PT1H
X-Robots-Tag:noindex
X-PUBLISHED-TTL:PT1H
BEGIN:VTIMEZONE
TZID:America/Phoenix
BEGIN:STANDARD
TZOFFSETFROM:-0700
TZOFFSETTO:-0700
TZNAME:MST
DTSTART:20230101T000000
END:STANDARD
END:VTIMEZONE
BEGIN:VEVENT
DTSTART;TZID=America/Phoenix:20240727T180000
DTEND;TZID=America/Phoenix:20240727T200000
DTSTAMP:20260423T071457
CREATED:20240630T173926Z
LAST-MODIFIED:20240630T174210Z
UID:10001577-1722103200-1722110400@care4thecaregivers.org
SUMMARY:Tucson Caregiver Dinner- Culinary Dropout
DESCRIPTION:Let’s get together for dinner! \nJoin us at Culinary Dropout on Saturday 7/27 and share a meal with other caregivers. Appetizers are on us! \nWhere: \nCulinary Dropout \n2543 E Grant Rd \nTucson\, AZ 85716 \n  \nWhen: \nSaturday 7/27 @ 6PM \n  \nRegister Here \n  \n  \nRegister Here
URL:https://care4thecaregivers.org/event/tucson-caregiver-dinner-culinary-dropout-3/
LOCATION:Culinary Dropout- Tucson\, 2543 E Grant Rd\, Tucson\, AZ\, 85716\, United States
ATTACH;FMTTYPE=image/png:https://care4thecaregivers.org/wp-content/uploads/2024/06/Culinary-Dropout.png
END:VEVENT
END:VCALENDAR