BEGIN:VCALENDAR
VERSION:2.0
PRODID:-//Care 4 the Caregivers - ECPv6.15.18//NONSGML v1.0//EN
CALSCALE:GREGORIAN
METHOD:PUBLISH
X-WR-CALNAME:Care 4 the Caregivers
X-ORIGINAL-URL:https://care4thecaregivers.org
X-WR-CALDESC:Events for Care 4 the Caregivers
REFRESH-INTERVAL;VALUE=DURATION:PT1H
X-Robots-Tag:noindex
X-PUBLISHED-TTL:PT1H
BEGIN:VTIMEZONE
TZID:America/Phoenix
BEGIN:STANDARD
TZOFFSETFROM:-0700
TZOFFSETTO:-0700
TZNAME:MST
DTSTART:20230101T000000
END:STANDARD
END:VTIMEZONE
BEGIN:VEVENT
DTSTART;TZID=America/Phoenix:20240717T173000
DTEND;TZID=America/Phoenix:20240717T190000
DTSTAMP:20260421T090330
CREATED:20240613T194106Z
LAST-MODIFIED:20240613T194106Z
UID:10001572-1721237400-1721242800@care4thecaregivers.org
SUMMARY:Flagstaff- Meet Up
DESCRIPTION:Caregivers in Northern Arizona can come together and hike at one of the more accessible paths in Flagstaff. Bring your families and get ready to enjoy some time in the great outdoors. \nRegister Here. \n  \nRegister Here
URL:https://care4thecaregivers.org/event/flagstaff-meet-up-3/
LOCATION:Christ’s Church of Flagstaff\, 3475 E Soliere Ave\, Flagstaff\, AZ\, 86004\, United States
ATTACH;FMTTYPE=image/jpeg:https://care4thecaregivers.org/wp-content/uploads/2024/06/FlipSide-In-Person_JuneJuly-Flier.jpg
END:VEVENT
END:VCALENDAR