BEGIN:VCALENDAR
VERSION:2.0
PRODID:-//Care 4 the Caregivers - ECPv6.15.18//NONSGML v1.0//EN
CALSCALE:GREGORIAN
METHOD:PUBLISH
X-ORIGINAL-URL:https://care4thecaregivers.org
X-WR-CALDESC:Events for Care 4 the Caregivers
REFRESH-INTERVAL;VALUE=DURATION:PT1H
X-Robots-Tag:noindex
X-PUBLISHED-TTL:PT1H
BEGIN:VTIMEZONE
TZID:America/Phoenix
BEGIN:STANDARD
TZOFFSETFROM:-0700
TZOFFSETTO:-0700
TZNAME:MST
DTSTART:20220101T000000
END:STANDARD
END:VTIMEZONE
BEGIN:VEVENT
DTSTART;TZID=America/Phoenix:20231017T110000
DTEND;TZID=America/Phoenix:20231017T130000
DTSTAMP:20260421T050917
CREATED:20230919T234416Z
LAST-MODIFIED:20230919T234849Z
UID:10001192-1697540400-1697547600@care4thecaregivers.org
SUMMARY:Tucson- Lunch and Learn
DESCRIPTION:Topic: Supportive Decision-Making \nThe supported decision-making bill passed in Arizona this June\, but what does that mean?! Join a local attorney who has been on the vanguard of this work for years. Learn how this legislation could impact your family and why alternatives to guardianship are so important. \nSpeaker: Sey In \nWhen: October 17 11-1pm \nLocation: The Children’s Clinic\, 2600 N Wyatt Dr\, Tucson\, AZ 85712 \nRegister Here: https://care4thecaregivers.org/product/tucson-lunch-n-learn-supportive-decision-making/ \nRegister Here
URL:https://care4thecaregivers.org/event/tucson-lunch-and-learn-2/
LOCATION:Children’s Clinic\, 2600 N Wyatt Dr\, Tucson\, AZ\, 85712\, United States
ATTACH;FMTTYPE=image/jpeg:https://care4thecaregivers.org/wp-content/uploads/2023/09/Media-1-A8B656AD-5DF4-4442-A0A4-9C33526B656E.jpg
END:VEVENT
BEGIN:VEVENT
DTSTART;TZID=America/Phoenix:20231017T190000
DTEND;TZID=America/Phoenix:20231017T210000
DTSTAMP:20260421T050917
CREATED:20230715T000617Z
LAST-MODIFIED:20230715T000617Z
UID:10001116-1697569200-1697576400@care4thecaregivers.org
SUMMARY:Dinner Night- North Phoenix
DESCRIPTION:Join us for dinner at Island at Desert Ridge in Phoenix (21001 N Tatum Blvd #36-1160\, Phoenix\, AZ 85050). \nThis event is for caregivers only and is a great opportunity to meet other parents who are walking the same journey you are. \nDinner will begin at 7. \nSee you then. \nRegister here: https://care4thecaregivers.org/product/caregiver-dinner-october-17th/ \nRegister Here
URL:https://care4thecaregivers.org/event/dinner-night-north-phoenix/
LOCATION:Islands at Desert Ridge\, 21001 N Tatum Blvd\, Phoenix\, Arizona\, 85050
ATTACH;FMTTYPE=image/jpeg:https://care4thecaregivers.org/wp-content/uploads/2023/07/October17th-1-scaled.jpg
END:VEVENT
END:VCALENDAR