BEGIN:VCALENDAR
VERSION:2.0
PRODID:-//Care 4 the Caregivers - ECPv6.15.18//NONSGML v1.0//EN
CALSCALE:GREGORIAN
METHOD:PUBLISH
X-ORIGINAL-URL:https://care4thecaregivers.org
X-WR-CALDESC:Events for Care 4 the Caregivers
REFRESH-INTERVAL;VALUE=DURATION:PT1H
X-Robots-Tag:noindex
X-PUBLISHED-TTL:PT1H
BEGIN:VTIMEZONE
TZID:America/Phoenix
BEGIN:STANDARD
TZOFFSETFROM:-0700
TZOFFSETTO:-0700
TZNAME:MST
DTSTART:20220101T000000
END:STANDARD
END:VTIMEZONE
BEGIN:VEVENT
DTSTART;TZID=America/Phoenix:20231007T100000
DTEND;TZID=America/Phoenix:20231007T120000
DTSTAMP:20260419T122741
CREATED:20230725T231545Z
LAST-MODIFIED:20231014T221027Z
UID:10001125-1696672800-1696680000@care4thecaregivers.org
SUMMARY:Journey Into Joy
DESCRIPTION:Embark on an Extraordinary Journey Into Joy\, where Heather Joy brings back her empowering program in partnership with Care 4 the Caregivers. This experience is designed to help parents raising disabled children discover inner peace\, find meaning\, and embrace joy in their own personal journey. \nJoin us for a series that focuses on nurturing your own well-being. We will explore self-care techniques specially curated for this unique journey. Which will include journaling\, sound healing\, meditation\, vision boards\, among other empowering practices. \nConnect with a compassionate community who walk the same path as you. Let’s embark on a transformative quest and unlock your community’s incredible support and camaraderie. \nEnroll now and embrace your Journey Into Joy. \nRemember\, you are never alone \nYou must register for each meeting separately so we know how many caregivers to expect. \nRegister HERE. \nRegister Here
URL:https://care4thecaregivers.org/event/journey-into-joy/2023-10-07/
LOCATION:Coronado Venue\, 917 East Sheridan\, Phoenix\, AZ\, 85006\, United States
ATTACH;FMTTYPE=image/jpeg:https://care4thecaregivers.org/wp-content/uploads/2023/07/Journey-Into-Joy-Final-1.jpg
END:VEVENT
BEGIN:VEVENT
DTSTART;TZID=America/Phoenix:20231007T103000
DTEND;TZID=America/Phoenix:20231007T110000
DTSTAMP:20260419T122741
CREATED:20230925T022351Z
LAST-MODIFIED:20230925T022351Z
UID:10001193-1696674600-1696676400@care4thecaregivers.org
SUMMARY:MudGirl
DESCRIPTION:MudGirl is for Gals Only and is a Caregiver only event. \nWe only have 15 tickets for this event. If you register you must attend! Check your calendar\, call your loved ones\, make sure you can make it. 😉 \nMudgirl is a 3 mile run full of 17 obstacles. There are rinse stations and changing stations for you to clean off before you leave the event. If you want to check out more information before registering you can go to their website. \nWhere: Bell Bank Park: 1 Legacy Dr\, Mesa\, AZ 85212 \nWhen: October 7th 10:30-11- start time window \nRegister Here: https://care4thecaregivers.org/product/mudgirl/ \nRegister Here
URL:https://care4thecaregivers.org/event/mudgirl/
LOCATION:Bell Bank Park\, 1 Legacy Dr\, Mesa\, Arizona\, 85212
ATTACH;FMTTYPE=image/jpeg:https://care4thecaregivers.org/wp-content/uploads/2023/09/Mudgirl-scaled.jpeg
END:VEVENT
END:VCALENDAR