BEGIN:VCALENDAR
VERSION:2.0
PRODID:-//Care 4 the Caregivers - ECPv6.15.18//NONSGML v1.0//EN
CALSCALE:GREGORIAN
METHOD:PUBLISH
X-WR-CALNAME:Care 4 the Caregivers
X-ORIGINAL-URL:https://care4thecaregivers.org
X-WR-CALDESC:Events for Care 4 the Caregivers
REFRESH-INTERVAL;VALUE=DURATION:PT1H
X-Robots-Tag:noindex
X-PUBLISHED-TTL:PT1H
BEGIN:VTIMEZONE
TZID:America/Phoenix
BEGIN:STANDARD
TZOFFSETFROM:-0700
TZOFFSETTO:-0700
TZNAME:MST
DTSTART:20220101T000000
END:STANDARD
END:VTIMEZONE
BEGIN:VEVENT
DTSTART;TZID=America/Phoenix:20230217T193000
DTEND;TZID=America/Phoenix:20230217T213000
DTSTAMP:20260421T052223
CREATED:20230202T215538Z
LAST-MODIFIED:20230202T215540Z
UID:10000748-1676662200-1676669400@care4thecaregivers.org
SUMMARY:Phoenix Symphony: The Music of John Williams in Concert
DESCRIPTION:Virginia G. Piper Music Director Tito Muñoz conducts this retrospective of the great John Williams. You won’t want to miss this concert of selections from some of his most powerful film scores\, including Star Wars\, E.T.\, Harry Potter\, Indiana Jones\, Saving Private Ryan\, and more! \n  \nRegister here: https://care4thecaregivers.org/product/the-music-of-john-williams/ \nRegister Here
URL:https://care4thecaregivers.org/event/phoenix-symphony-the-music-of-john-williams-in-concert-2/
LOCATION:Symphony Hall\, 75 N 2nd St\, Phoenix\, AZ\, 85004\, United States
ATTACH;FMTTYPE=image/jpeg:https://care4thecaregivers.org/wp-content/uploads/2022/08/Music-of-John-Williams-1-scaled.jpg
END:VEVENT
END:VCALENDAR